BEGIN:VCALENDAR
VERSION:2.0
PRODID:-//YogaCaps, Inc - ECPv6.15.18//NONSGML v1.0//EN
CALSCALE:GREGORIAN
METHOD:PUBLISH
X-WR-CALNAME:YogaCaps, Inc
X-ORIGINAL-URL:https://yogacaps.org
X-WR-CALDESC:Events for YogaCaps, Inc
REFRESH-INTERVAL;VALUE=DURATION:PT1H
X-Robots-Tag:noindex
X-PUBLISHED-TTL:PT1H
BEGIN:VTIMEZONE
TZID:UTC
BEGIN:STANDARD
TZOFFSETFROM:+0000
TZOFFSETTO:+0000
TZNAME:UTC
DTSTART:20250101T000000
END:STANDARD
END:VTIMEZONE
BEGIN:VEVENT
DTSTART;TZID=UTC:20260424T090000
DTEND;TZID=UTC:20260424T100000
DTSTAMP:20260421T140749
CREATED:20260328T191932Z
LAST-MODIFIED:20260331T071643Z
UID:7159-1777021200-1777024800@yogacaps.org
SUMMARY:Seated Therapeutic Yoga
DESCRIPTION:For more information or to join this class at the John O’Leary Community Center\, contact terry@yogacaps.org
URL:https://yogacaps.org/event/seated-therapeutic-yoga-2/2026-04-24/
END:VEVENT
BEGIN:VEVENT
DTSTART;TZID=UTC:20260501T090000
DTEND;TZID=UTC:20260501T100000
DTSTAMP:20260421T140749
CREATED:20260328T191932Z
LAST-MODIFIED:20260331T071644Z
UID:7160-1777626000-1777629600@yogacaps.org
SUMMARY:Seated Therapeutic Yoga
DESCRIPTION:For more information or to join this class at the John O’Leary Community Center\, contact terry@yogacaps.org
URL:https://yogacaps.org/event/seated-therapeutic-yoga-2/2026-05-01/
END:VEVENT
BEGIN:VEVENT
DTSTART;TZID=UTC:20260508T090000
DTEND;TZID=UTC:20260508T100000
DTSTAMP:20260421T140749
CREATED:20260328T191932Z
LAST-MODIFIED:20260331T071645Z
UID:7161-1778230800-1778234400@yogacaps.org
SUMMARY:Seated Therapeutic Yoga
DESCRIPTION:For more information or to join this class at the John O’Leary Community Center\, contact terry@yogacaps.org
URL:https://yogacaps.org/event/seated-therapeutic-yoga-2/2026-05-08/
END:VEVENT
BEGIN:VEVENT
DTSTART;TZID=UTC:20260515T090000
DTEND;TZID=UTC:20260515T100000
DTSTAMP:20260421T140749
CREATED:20260328T191932Z
LAST-MODIFIED:20260331T071647Z
UID:7162-1778835600-1778839200@yogacaps.org
SUMMARY:Seated Therapeutic Yoga
DESCRIPTION:For more information or to join this class at the John O’Leary Community Center\, contact terry@yogacaps.org
URL:https://yogacaps.org/event/seated-therapeutic-yoga-2/2026-05-15/
END:VEVENT
BEGIN:VEVENT
DTSTART;TZID=UTC:20260522T090000
DTEND;TZID=UTC:20260522T100000
DTSTAMP:20260421T140749
CREATED:20260328T191932Z
LAST-MODIFIED:20260331T071647Z
UID:7163-1779440400-1779444000@yogacaps.org
SUMMARY:Seated Therapeutic Yoga
DESCRIPTION:For more information or to join this class at the John O’Leary Community Center\, contact terry@yogacaps.org
URL:https://yogacaps.org/event/seated-therapeutic-yoga-2/2026-05-22/
END:VEVENT
BEGIN:VEVENT
DTSTART;TZID=UTC:20260529T090000
DTEND;TZID=UTC:20260529T100000
DTSTAMP:20260421T140749
CREATED:20260328T191932Z
LAST-MODIFIED:20260331T071648Z
UID:7164-1780045200-1780048800@yogacaps.org
SUMMARY:Seated Therapeutic Yoga
DESCRIPTION:For more information or to join this class at the John O’Leary Community Center\, contact terry@yogacaps.org
URL:https://yogacaps.org/event/seated-therapeutic-yoga-2/2026-05-29/
END:VEVENT
BEGIN:VEVENT
DTSTART;TZID=UTC:20260605T090000
DTEND;TZID=UTC:20260605T100000
DTSTAMP:20260421T140749
CREATED:20260328T191932Z
LAST-MODIFIED:20260331T071649Z
UID:7165-1780650000-1780653600@yogacaps.org
SUMMARY:Seated Therapeutic Yoga
DESCRIPTION:For more information or to join this class at the John O’Leary Community Center\, contact terry@yogacaps.org
URL:https://yogacaps.org/event/seated-therapeutic-yoga-2/2026-06-05/
END:VEVENT
BEGIN:VEVENT
DTSTART;TZID=UTC:20260612T090000
DTEND;TZID=UTC:20260612T100000
DTSTAMP:20260421T140749
CREATED:20260328T191932Z
LAST-MODIFIED:20260331T071652Z
UID:7166-1781254800-1781258400@yogacaps.org
SUMMARY:Seated Therapeutic Yoga
DESCRIPTION:For more information or to join this class at the John O’Leary Community Center\, contact terry@yogacaps.org
URL:https://yogacaps.org/event/seated-therapeutic-yoga-2/2026-06-12/
END:VEVENT
BEGIN:VEVENT
DTSTART;TZID=UTC:20260619T090000
DTEND;TZID=UTC:20260619T100000
DTSTAMP:20260421T140749
CREATED:20260328T191932Z
LAST-MODIFIED:20260331T071653Z
UID:7168-1781859600-1781863200@yogacaps.org
SUMMARY:Seated Therapeutic Yoga
DESCRIPTION:For more information or to join this class at the John O’Leary Community Center\, contact terry@yogacaps.org
URL:https://yogacaps.org/event/seated-therapeutic-yoga-2/2026-06-19/
END:VEVENT
BEGIN:VEVENT
DTSTART;TZID=UTC:20260626T090000
DTEND;TZID=UTC:20260626T100000
DTSTAMP:20260421T140749
CREATED:20260328T191932Z
LAST-MODIFIED:20260331T071654Z
UID:7169-1782464400-1782468000@yogacaps.org
SUMMARY:Seated Therapeutic Yoga
DESCRIPTION:For more information or to join this class at the John O’Leary Community Center\, contact terry@yogacaps.org
URL:https://yogacaps.org/event/seated-therapeutic-yoga-2/2026-06-26/
END:VEVENT
BEGIN:VEVENT
DTSTART;TZID=UTC:20260703T090000
DTEND;TZID=UTC:20260703T100000
DTSTAMP:20260421T140749
CREATED:20260328T191932Z
LAST-MODIFIED:20260331T071655Z
UID:7170-1783069200-1783072800@yogacaps.org
SUMMARY:Seated Therapeutic Yoga
DESCRIPTION:For more information or to join this class at the John O’Leary Community Center\, contact terry@yogacaps.org
URL:https://yogacaps.org/event/seated-therapeutic-yoga-2/2026-07-03/
END:VEVENT
BEGIN:VEVENT
DTSTART;TZID=UTC:20260710T090000
DTEND;TZID=UTC:20260710T100000
DTSTAMP:20260421T140749
CREATED:20260328T191932Z
LAST-MODIFIED:20260331T071655Z
UID:7171-1783674000-1783677600@yogacaps.org
SUMMARY:Seated Therapeutic Yoga
DESCRIPTION:For more information or to join this class at the John O’Leary Community Center\, contact terry@yogacaps.org
URL:https://yogacaps.org/event/seated-therapeutic-yoga-2/2026-07-10/
END:VEVENT
BEGIN:VEVENT
DTSTART;TZID=UTC:20260717T090000
DTEND;TZID=UTC:20260717T100000
DTSTAMP:20260421T140749
CREATED:20260328T191932Z
LAST-MODIFIED:20260331T071656Z
UID:7172-1784278800-1784282400@yogacaps.org
SUMMARY:Seated Therapeutic Yoga
DESCRIPTION:For more information or to join this class at the John O’Leary Community Center\, contact terry@yogacaps.org
URL:https://yogacaps.org/event/seated-therapeutic-yoga-2/2026-07-17/
END:VEVENT
BEGIN:VEVENT
DTSTART;TZID=UTC:20260724T090000
DTEND;TZID=UTC:20260724T100000
DTSTAMP:20260421T140749
CREATED:20260328T191932Z
LAST-MODIFIED:20260331T071657Z
UID:7173-1784883600-1784887200@yogacaps.org
SUMMARY:Seated Therapeutic Yoga
DESCRIPTION:For more information or to join this class at the John O’Leary Community Center\, contact terry@yogacaps.org
URL:https://yogacaps.org/event/seated-therapeutic-yoga-2/2026-07-24/
END:VEVENT
BEGIN:VEVENT
DTSTART;TZID=UTC:20260731T090000
DTEND;TZID=UTC:20260731T100000
DTSTAMP:20260421T140749
CREATED:20260328T191932Z
LAST-MODIFIED:20260331T071658Z
UID:7174-1785488400-1785492000@yogacaps.org
SUMMARY:Seated Therapeutic Yoga
DESCRIPTION:For more information or to join this class at the John O’Leary Community Center\, contact terry@yogacaps.org
URL:https://yogacaps.org/event/seated-therapeutic-yoga-2/2026-07-31/
END:VEVENT
BEGIN:VEVENT
DTSTART;TZID=UTC:20260807T090000
DTEND;TZID=UTC:20260807T100000
DTSTAMP:20260421T140749
CREATED:20260328T191932Z
LAST-MODIFIED:20260331T071659Z
UID:7175-1786093200-1786096800@yogacaps.org
SUMMARY:Seated Therapeutic Yoga
DESCRIPTION:For more information or to join this class at the John O’Leary Community Center\, contact terry@yogacaps.org
URL:https://yogacaps.org/event/seated-therapeutic-yoga-2/2026-08-07/
END:VEVENT
BEGIN:VEVENT
DTSTART;TZID=UTC:20260814T090000
DTEND;TZID=UTC:20260814T100000
DTSTAMP:20260421T140749
CREATED:20260328T191932Z
LAST-MODIFIED:20260331T071700Z
UID:7176-1786698000-1786701600@yogacaps.org
SUMMARY:Seated Therapeutic Yoga
DESCRIPTION:For more information or to join this class at the John O’Leary Community Center\, contact terry@yogacaps.org
URL:https://yogacaps.org/event/seated-therapeutic-yoga-2/2026-08-14/
END:VEVENT
BEGIN:VEVENT
DTSTART;TZID=UTC:20260821T090000
DTEND;TZID=UTC:20260821T100000
DTSTAMP:20260421T140749
CREATED:20260328T191932Z
LAST-MODIFIED:20260331T071703Z
UID:7177-1787302800-1787306400@yogacaps.org
SUMMARY:Seated Therapeutic Yoga
DESCRIPTION:For more information or to join this class at the John O’Leary Community Center\, contact terry@yogacaps.org
URL:https://yogacaps.org/event/seated-therapeutic-yoga-2/2026-08-21/
END:VEVENT
BEGIN:VEVENT
DTSTART;TZID=UTC:20260828T090000
DTEND;TZID=UTC:20260828T100000
DTSTAMP:20260421T140749
CREATED:20260328T191932Z
LAST-MODIFIED:20260331T071704Z
UID:7178-1787907600-1787911200@yogacaps.org
SUMMARY:Seated Therapeutic Yoga
DESCRIPTION:For more information or to join this class at the John O’Leary Community Center\, contact terry@yogacaps.org
URL:https://yogacaps.org/event/seated-therapeutic-yoga-2/2026-08-28/
END:VEVENT
BEGIN:VEVENT
DTSTART;TZID=UTC:20260904T090000
DTEND;TZID=UTC:20260904T100000
DTSTAMP:20260421T140749
CREATED:20260328T191932Z
LAST-MODIFIED:20260331T071705Z
UID:7179-1788512400-1788516000@yogacaps.org
SUMMARY:Seated Therapeutic Yoga
DESCRIPTION:For more information or to join this class at the John O’Leary Community Center\, contact terry@yogacaps.org
URL:https://yogacaps.org/event/seated-therapeutic-yoga-2/2026-09-04/
END:VEVENT
BEGIN:VEVENT
DTSTART;TZID=UTC:20260911T090000
DTEND;TZID=UTC:20260911T100000
DTSTAMP:20260421T140749
CREATED:20260328T191932Z
LAST-MODIFIED:20260331T071706Z
UID:7180-1789117200-1789120800@yogacaps.org
SUMMARY:Seated Therapeutic Yoga
DESCRIPTION:For more information or to join this class at the John O’Leary Community Center\, contact terry@yogacaps.org
URL:https://yogacaps.org/event/seated-therapeutic-yoga-2/2026-09-11/
END:VEVENT
BEGIN:VEVENT
DTSTART;TZID=UTC:20260918T090000
DTEND;TZID=UTC:20260918T100000
DTSTAMP:20260421T140749
CREATED:20260328T191932Z
LAST-MODIFIED:20260331T071707Z
UID:7181-1789722000-1789725600@yogacaps.org
SUMMARY:Seated Therapeutic Yoga
DESCRIPTION:For more information or to join this class at the John O’Leary Community Center\, contact terry@yogacaps.org
URL:https://yogacaps.org/event/seated-therapeutic-yoga-2/2026-09-18/
END:VEVENT
BEGIN:VEVENT
DTSTART;TZID=UTC:20260925T090000
DTEND;TZID=UTC:20260925T100000
DTSTAMP:20260421T140749
CREATED:20260328T191932Z
LAST-MODIFIED:20260331T071708Z
UID:7182-1790326800-1790330400@yogacaps.org
SUMMARY:Seated Therapeutic Yoga
DESCRIPTION:For more information or to join this class at the John O’Leary Community Center\, contact terry@yogacaps.org
URL:https://yogacaps.org/event/seated-therapeutic-yoga-2/2026-09-25/
END:VEVENT
BEGIN:VEVENT
DTSTART;TZID=UTC:20261002T090000
DTEND;TZID=UTC:20261002T100000
DTSTAMP:20260421T140749
CREATED:20260328T191932Z
LAST-MODIFIED:20260331T071709Z
UID:7183-1790931600-1790935200@yogacaps.org
SUMMARY:Seated Therapeutic Yoga
DESCRIPTION:For more information or to join this class at the John O’Leary Community Center\, contact terry@yogacaps.org
URL:https://yogacaps.org/event/seated-therapeutic-yoga-2/2026-10-02/
END:VEVENT
BEGIN:VEVENT
DTSTART;TZID=UTC:20261009T090000
DTEND;TZID=UTC:20261009T100000
DTSTAMP:20260421T140749
CREATED:20260328T191932Z
LAST-MODIFIED:20260331T071710Z
UID:7184-1791536400-1791540000@yogacaps.org
SUMMARY:Seated Therapeutic Yoga
DESCRIPTION:For more information or to join this class at the John O’Leary Community Center\, contact terry@yogacaps.org
URL:https://yogacaps.org/event/seated-therapeutic-yoga-2/2026-10-09/
END:VEVENT
BEGIN:VEVENT
DTSTART;TZID=UTC:20261016T090000
DTEND;TZID=UTC:20261016T100000
DTSTAMP:20260421T140749
CREATED:20260328T191932Z
LAST-MODIFIED:20260331T071711Z
UID:7185-1792141200-1792144800@yogacaps.org
SUMMARY:Seated Therapeutic Yoga
DESCRIPTION:For more information or to join this class at the John O’Leary Community Center\, contact terry@yogacaps.org
URL:https://yogacaps.org/event/seated-therapeutic-yoga-2/2026-10-16/
END:VEVENT
BEGIN:VEVENT
DTSTART;TZID=UTC:20261023T090000
DTEND;TZID=UTC:20261023T100000
DTSTAMP:20260421T140749
CREATED:20260328T191932Z
LAST-MODIFIED:20260331T071712Z
UID:7186-1792746000-1792749600@yogacaps.org
SUMMARY:Seated Therapeutic Yoga
DESCRIPTION:For more information or to join this class at the John O’Leary Community Center\, contact terry@yogacaps.org
URL:https://yogacaps.org/event/seated-therapeutic-yoga-2/2026-10-23/
END:VEVENT
BEGIN:VEVENT
DTSTART;TZID=UTC:20261030T090000
DTEND;TZID=UTC:20261030T100000
DTSTAMP:20260421T140749
CREATED:20260328T191932Z
LAST-MODIFIED:20260331T071714Z
UID:7187-1793350800-1793354400@yogacaps.org
SUMMARY:Seated Therapeutic Yoga
DESCRIPTION:For more information or to join this class at the John O’Leary Community Center\, contact terry@yogacaps.org
URL:https://yogacaps.org/event/seated-therapeutic-yoga-2/2026-10-30/
END:VEVENT
BEGIN:VEVENT
DTSTART;TZID=UTC:20261106T090000
DTEND;TZID=UTC:20261106T100000
DTSTAMP:20260421T140749
CREATED:20260328T191932Z
LAST-MODIFIED:20260331T071715Z
UID:7188-1793955600-1793959200@yogacaps.org
SUMMARY:Seated Therapeutic Yoga
DESCRIPTION:For more information or to join this class at the John O’Leary Community Center\, contact terry@yogacaps.org
URL:https://yogacaps.org/event/seated-therapeutic-yoga-2/2026-11-06/
END:VEVENT
BEGIN:VEVENT
DTSTART;TZID=UTC:20261113T090000
DTEND;TZID=UTC:20261113T100000
DTSTAMP:20260421T140749
CREATED:20260328T191932Z
LAST-MODIFIED:20260331T071716Z
UID:7189-1794560400-1794564000@yogacaps.org
SUMMARY:Seated Therapeutic Yoga
DESCRIPTION:For more information or to join this class at the John O’Leary Community Center\, contact terry@yogacaps.org
URL:https://yogacaps.org/event/seated-therapeutic-yoga-2/2026-11-13/
END:VEVENT
END:VCALENDAR