BEGIN:VCALENDAR
VERSION:2.0
PRODID:-//YogaCaps, Inc - ECPv6.15.18//NONSGML v1.0//EN
CALSCALE:GREGORIAN
METHOD:PUBLISH
X-ORIGINAL-URL:https://yogacaps.org
X-WR-CALDESC:Events for YogaCaps, Inc
REFRESH-INTERVAL;VALUE=DURATION:PT1H
X-Robots-Tag:noindex
X-PUBLISHED-TTL:PT1H
BEGIN:VTIMEZONE
TZID:UTC
BEGIN:STANDARD
TZOFFSETFROM:+0000
TZOFFSETTO:+0000
TZNAME:UTC
DTSTART:20250101T000000
END:STANDARD
END:VTIMEZONE
BEGIN:VEVENT
DTSTART;TZID=UTC:20261002T090000
DTEND;TZID=UTC:20261002T100000
DTSTAMP:20260422T015036
CREATED:20260328T191932Z
LAST-MODIFIED:20260331T071709Z
UID:7183-1790931600-1790935200@yogacaps.org
SUMMARY:Seated Therapeutic Yoga
DESCRIPTION:For more information or to join this class at the John O’Leary Community Center\, contact terry@yogacaps.org
URL:https://yogacaps.org/event/seated-therapeutic-yoga-2/2026-10-02/
END:VEVENT
BEGIN:VEVENT
DTSTART;TZID=UTC:20261007T190000
DTEND;TZID=UTC:20261007T200000
DTSTAMP:20260422T015036
CREATED:20260401T222921Z
LAST-MODIFIED:20260401T222921Z
UID:7079-1791399600-1791403200@yogacaps.org
SUMMARY:Seated Therapeutic Yoga
DESCRIPTION:To join this live\, virtual event using Zoom\, contact terry@yogacaps.org
URL:https://yogacaps.org/event/seated-therapeutic-yoga/2026-10-07/
END:VEVENT
BEGIN:VEVENT
DTSTART;TZID=UTC:20261009T090000
DTEND;TZID=UTC:20261009T100000
DTSTAMP:20260422T015036
CREATED:20260328T191932Z
LAST-MODIFIED:20260331T071710Z
UID:7184-1791536400-1791540000@yogacaps.org
SUMMARY:Seated Therapeutic Yoga
DESCRIPTION:For more information or to join this class at the John O’Leary Community Center\, contact terry@yogacaps.org
URL:https://yogacaps.org/event/seated-therapeutic-yoga-2/2026-10-09/
END:VEVENT
BEGIN:VEVENT
DTSTART;TZID=UTC:20261014T190000
DTEND;TZID=UTC:20261014T200000
DTSTAMP:20260422T015036
CREATED:20260401T222922Z
LAST-MODIFIED:20260401T222922Z
UID:7080-1792004400-1792008000@yogacaps.org
SUMMARY:Seated Therapeutic Yoga
DESCRIPTION:To join this live\, virtual event using Zoom\, contact terry@yogacaps.org
URL:https://yogacaps.org/event/seated-therapeutic-yoga/2026-10-14/
END:VEVENT
BEGIN:VEVENT
DTSTART;TZID=UTC:20261016T090000
DTEND;TZID=UTC:20261016T100000
DTSTAMP:20260422T015036
CREATED:20260328T191932Z
LAST-MODIFIED:20260331T071711Z
UID:7185-1792141200-1792144800@yogacaps.org
SUMMARY:Seated Therapeutic Yoga
DESCRIPTION:For more information or to join this class at the John O’Leary Community Center\, contact terry@yogacaps.org
URL:https://yogacaps.org/event/seated-therapeutic-yoga-2/2026-10-16/
END:VEVENT
BEGIN:VEVENT
DTSTART;TZID=UTC:20261021T190000
DTEND;TZID=UTC:20261021T200000
DTSTAMP:20260422T015036
CREATED:20260401T222922Z
LAST-MODIFIED:20260401T222922Z
UID:7081-1792609200-1792612800@yogacaps.org
SUMMARY:Seated Therapeutic Yoga
DESCRIPTION:To join this live\, virtual event using Zoom\, contact terry@yogacaps.org
URL:https://yogacaps.org/event/seated-therapeutic-yoga/2026-10-21/
END:VEVENT
BEGIN:VEVENT
DTSTART;TZID=UTC:20261023T090000
DTEND;TZID=UTC:20261023T100000
DTSTAMP:20260422T015036
CREATED:20260328T191932Z
LAST-MODIFIED:20260331T071712Z
UID:7186-1792746000-1792749600@yogacaps.org
SUMMARY:Seated Therapeutic Yoga
DESCRIPTION:For more information or to join this class at the John O’Leary Community Center\, contact terry@yogacaps.org
URL:https://yogacaps.org/event/seated-therapeutic-yoga-2/2026-10-23/
END:VEVENT
BEGIN:VEVENT
DTSTART;TZID=UTC:20261028T190000
DTEND;TZID=UTC:20261028T200000
DTSTAMP:20260422T015036
CREATED:20260401T222923Z
LAST-MODIFIED:20260401T222923Z
UID:7082-1793214000-1793217600@yogacaps.org
SUMMARY:Seated Therapeutic Yoga
DESCRIPTION:To join this live\, virtual event using Zoom\, contact terry@yogacaps.org
URL:https://yogacaps.org/event/seated-therapeutic-yoga/2026-10-28/
END:VEVENT
BEGIN:VEVENT
DTSTART;TZID=UTC:20261030T090000
DTEND;TZID=UTC:20261030T100000
DTSTAMP:20260422T015036
CREATED:20260328T191932Z
LAST-MODIFIED:20260331T071714Z
UID:7187-1793350800-1793354400@yogacaps.org
SUMMARY:Seated Therapeutic Yoga
DESCRIPTION:For more information or to join this class at the John O’Leary Community Center\, contact terry@yogacaps.org
URL:https://yogacaps.org/event/seated-therapeutic-yoga-2/2026-10-30/
END:VEVENT
BEGIN:VEVENT
DTSTART;TZID=UTC:20261104T190000
DTEND;TZID=UTC:20261104T200000
DTSTAMP:20260422T015036
CREATED:20260328T191429Z
LAST-MODIFIED:20260401T222926Z
UID:7083-1793818800-1793822400@yogacaps.org
SUMMARY:Seated Therapeutic Yoga
DESCRIPTION:To join this live\, virtual event using Zoom\, contact terry@yogacaps.org
URL:https://yogacaps.org/event/seated-therapeutic-yoga/2026-11-04/
END:VEVENT
BEGIN:VEVENT
DTSTART;TZID=UTC:20261106T090000
DTEND;TZID=UTC:20261106T100000
DTSTAMP:20260422T015036
CREATED:20260328T191932Z
LAST-MODIFIED:20260331T071715Z
UID:7188-1793955600-1793959200@yogacaps.org
SUMMARY:Seated Therapeutic Yoga
DESCRIPTION:For more information or to join this class at the John O’Leary Community Center\, contact terry@yogacaps.org
URL:https://yogacaps.org/event/seated-therapeutic-yoga-2/2026-11-06/
END:VEVENT
BEGIN:VEVENT
DTSTART;TZID=UTC:20261111T190000
DTEND;TZID=UTC:20261111T200000
DTSTAMP:20260422T015036
CREATED:20260328T191429Z
LAST-MODIFIED:20260401T222926Z
UID:7084-1794423600-1794427200@yogacaps.org
SUMMARY:Seated Therapeutic Yoga
DESCRIPTION:To join this live\, virtual event using Zoom\, contact terry@yogacaps.org
URL:https://yogacaps.org/event/seated-therapeutic-yoga/2026-11-11/
END:VEVENT
BEGIN:VEVENT
DTSTART;TZID=UTC:20261113T090000
DTEND;TZID=UTC:20261113T100000
DTSTAMP:20260422T015036
CREATED:20260328T191932Z
LAST-MODIFIED:20260331T071716Z
UID:7189-1794560400-1794564000@yogacaps.org
SUMMARY:Seated Therapeutic Yoga
DESCRIPTION:For more information or to join this class at the John O’Leary Community Center\, contact terry@yogacaps.org
URL:https://yogacaps.org/event/seated-therapeutic-yoga-2/2026-11-13/
END:VEVENT
BEGIN:VEVENT
DTSTART;TZID=UTC:20261118T190000
DTEND;TZID=UTC:20261118T200000
DTSTAMP:20260422T015036
CREATED:20260328T191429Z
LAST-MODIFIED:20260401T222927Z
UID:7085-1795028400-1795032000@yogacaps.org
SUMMARY:Seated Therapeutic Yoga
DESCRIPTION:To join this live\, virtual event using Zoom\, contact terry@yogacaps.org
URL:https://yogacaps.org/event/seated-therapeutic-yoga/2026-11-18/
END:VEVENT
BEGIN:VEVENT
DTSTART;TZID=UTC:20261120T090000
DTEND;TZID=UTC:20261120T100000
DTSTAMP:20260422T015036
CREATED:20260328T191932Z
LAST-MODIFIED:20260331T071717Z
UID:7190-1795165200-1795168800@yogacaps.org
SUMMARY:Seated Therapeutic Yoga
DESCRIPTION:For more information or to join this class at the John O’Leary Community Center\, contact terry@yogacaps.org
URL:https://yogacaps.org/event/seated-therapeutic-yoga-2/2026-11-20/
END:VEVENT
BEGIN:VEVENT
DTSTART;TZID=UTC:20261125T190000
DTEND;TZID=UTC:20261125T200000
DTSTAMP:20260422T015036
CREATED:20260328T191429Z
LAST-MODIFIED:20260401T222928Z
UID:7086-1795633200-1795636800@yogacaps.org
SUMMARY:Seated Therapeutic Yoga
DESCRIPTION:To join this live\, virtual event using Zoom\, contact terry@yogacaps.org
URL:https://yogacaps.org/event/seated-therapeutic-yoga/2026-11-25/
END:VEVENT
BEGIN:VEVENT
DTSTART;TZID=UTC:20261127T090000
DTEND;TZID=UTC:20261127T100000
DTSTAMP:20260422T015036
CREATED:20260328T191932Z
LAST-MODIFIED:20260331T071718Z
UID:7191-1795770000-1795773600@yogacaps.org
SUMMARY:Seated Therapeutic Yoga
DESCRIPTION:For more information or to join this class at the John O’Leary Community Center\, contact terry@yogacaps.org
URL:https://yogacaps.org/event/seated-therapeutic-yoga-2/2026-11-27/
END:VEVENT
BEGIN:VEVENT
DTSTART;TZID=UTC:20261202T190000
DTEND;TZID=UTC:20261202T200000
DTSTAMP:20260422T015036
CREATED:20260328T191429Z
LAST-MODIFIED:20260401T222929Z
UID:7087-1796238000-1796241600@yogacaps.org
SUMMARY:Seated Therapeutic Yoga
DESCRIPTION:To join this live\, virtual event using Zoom\, contact terry@yogacaps.org
URL:https://yogacaps.org/event/seated-therapeutic-yoga/2026-12-02/
END:VEVENT
BEGIN:VEVENT
DTSTART;TZID=UTC:20261204T090000
DTEND;TZID=UTC:20261204T100000
DTSTAMP:20260422T015036
CREATED:20260328T191932Z
LAST-MODIFIED:20260331T071719Z
UID:7192-1796374800-1796378400@yogacaps.org
SUMMARY:Seated Therapeutic Yoga
DESCRIPTION:For more information or to join this class at the John O’Leary Community Center\, contact terry@yogacaps.org
URL:https://yogacaps.org/event/seated-therapeutic-yoga-2/2026-12-04/
END:VEVENT
BEGIN:VEVENT
DTSTART;TZID=UTC:20261209T190000
DTEND;TZID=UTC:20261209T200000
DTSTAMP:20260422T015036
CREATED:20260328T191429Z
LAST-MODIFIED:20260401T222929Z
UID:7088-1796842800-1796846400@yogacaps.org
SUMMARY:Seated Therapeutic Yoga
DESCRIPTION:To join this live\, virtual event using Zoom\, contact terry@yogacaps.org
URL:https://yogacaps.org/event/seated-therapeutic-yoga/2026-12-09/
END:VEVENT
BEGIN:VEVENT
DTSTART;TZID=UTC:20261211T090000
DTEND;TZID=UTC:20261211T100000
DTSTAMP:20260422T015036
CREATED:20260328T191932Z
LAST-MODIFIED:20260331T071720Z
UID:7193-1796979600-1796983200@yogacaps.org
SUMMARY:Seated Therapeutic Yoga
DESCRIPTION:For more information or to join this class at the John O’Leary Community Center\, contact terry@yogacaps.org
URL:https://yogacaps.org/event/seated-therapeutic-yoga-2/2026-12-11/
END:VEVENT
BEGIN:VEVENT
DTSTART;TZID=UTC:20261216T190000
DTEND;TZID=UTC:20261216T200000
DTSTAMP:20260422T015036
CREATED:20260328T191429Z
LAST-MODIFIED:20260401T222930Z
UID:7089-1797447600-1797451200@yogacaps.org
SUMMARY:Seated Therapeutic Yoga
DESCRIPTION:To join this live\, virtual event using Zoom\, contact terry@yogacaps.org
URL:https://yogacaps.org/event/seated-therapeutic-yoga/2026-12-16/
END:VEVENT
BEGIN:VEVENT
DTSTART;TZID=UTC:20261218T090000
DTEND;TZID=UTC:20261218T100000
DTSTAMP:20260422T015036
CREATED:20260328T191932Z
LAST-MODIFIED:20260331T071721Z
UID:7194-1797584400-1797588000@yogacaps.org
SUMMARY:Seated Therapeutic Yoga
DESCRIPTION:For more information or to join this class at the John O’Leary Community Center\, contact terry@yogacaps.org
URL:https://yogacaps.org/event/seated-therapeutic-yoga-2/2026-12-18/
END:VEVENT
BEGIN:VEVENT
DTSTART;TZID=UTC:20261223T190000
DTEND;TZID=UTC:20261223T200000
DTSTAMP:20260422T015036
CREATED:20260328T191429Z
LAST-MODIFIED:20260401T222931Z
UID:7090-1798052400-1798056000@yogacaps.org
SUMMARY:Seated Therapeutic Yoga
DESCRIPTION:To join this live\, virtual event using Zoom\, contact terry@yogacaps.org
URL:https://yogacaps.org/event/seated-therapeutic-yoga/2026-12-23/
END:VEVENT
BEGIN:VEVENT
DTSTART;TZID=UTC:20261225T090000
DTEND;TZID=UTC:20261225T100000
DTSTAMP:20260422T015036
CREATED:20260328T191932Z
LAST-MODIFIED:20260331T071722Z
UID:7195-1798189200-1798192800@yogacaps.org
SUMMARY:Seated Therapeutic Yoga
DESCRIPTION:For more information or to join this class at the John O’Leary Community Center\, contact terry@yogacaps.org
URL:https://yogacaps.org/event/seated-therapeutic-yoga-2/2026-12-25/
END:VEVENT
BEGIN:VEVENT
DTSTART;TZID=UTC:20261230T190000
DTEND;TZID=UTC:20261230T200000
DTSTAMP:20260422T015036
CREATED:20260328T191429Z
LAST-MODIFIED:20260401T222931Z
UID:7091-1798657200-1798660800@yogacaps.org
SUMMARY:Seated Therapeutic Yoga
DESCRIPTION:To join this live\, virtual event using Zoom\, contact terry@yogacaps.org
URL:https://yogacaps.org/event/seated-therapeutic-yoga/2026-12-30/
END:VEVENT
BEGIN:VEVENT
DTSTART;TZID=UTC:20270101T090000
DTEND;TZID=UTC:20270101T100000
DTSTAMP:20260422T015036
CREATED:20260328T191932Z
LAST-MODIFIED:20260331T071723Z
UID:7196-1798794000-1798797600@yogacaps.org
SUMMARY:Seated Therapeutic Yoga
DESCRIPTION:For more information or to join this class at the John O’Leary Community Center\, contact terry@yogacaps.org
URL:https://yogacaps.org/event/seated-therapeutic-yoga-2/2027-01-01/
END:VEVENT
BEGIN:VEVENT
DTSTART;TZID=UTC:20270106T190000
DTEND;TZID=UTC:20270106T200000
DTSTAMP:20260422T015036
CREATED:20260328T191429Z
LAST-MODIFIED:20260401T222932Z
UID:7092-1799262000-1799265600@yogacaps.org
SUMMARY:Seated Therapeutic Yoga
DESCRIPTION:To join this live\, virtual event using Zoom\, contact terry@yogacaps.org
URL:https://yogacaps.org/event/seated-therapeutic-yoga/2027-01-06/
END:VEVENT
BEGIN:VEVENT
DTSTART;TZID=UTC:20270108T090000
DTEND;TZID=UTC:20270108T100000
DTSTAMP:20260422T015036
CREATED:20260328T191932Z
LAST-MODIFIED:20260331T071726Z
UID:7197-1799398800-1799402400@yogacaps.org
SUMMARY:Seated Therapeutic Yoga
DESCRIPTION:For more information or to join this class at the John O’Leary Community Center\, contact terry@yogacaps.org
URL:https://yogacaps.org/event/seated-therapeutic-yoga-2/2027-01-08/
END:VEVENT
BEGIN:VEVENT
DTSTART;TZID=UTC:20270113T190000
DTEND;TZID=UTC:20270113T200000
DTSTAMP:20260422T015036
CREATED:20260328T191429Z
LAST-MODIFIED:20260401T222934Z
UID:7093-1799866800-1799870400@yogacaps.org
SUMMARY:Seated Therapeutic Yoga
DESCRIPTION:To join this live\, virtual event using Zoom\, contact terry@yogacaps.org
URL:https://yogacaps.org/event/seated-therapeutic-yoga/2027-01-13/
END:VEVENT
END:VCALENDAR