BEGIN:VCALENDAR
VERSION:2.0
PRODID:-//YogaCaps, Inc - ECPv6.15.18//NONSGML v1.0//EN
CALSCALE:GREGORIAN
METHOD:PUBLISH
X-ORIGINAL-URL:https://yogacaps.org
X-WR-CALDESC:Events for YogaCaps, Inc
REFRESH-INTERVAL;VALUE=DURATION:PT1H
X-Robots-Tag:noindex
X-PUBLISHED-TTL:PT1H
BEGIN:VTIMEZONE
TZID:Asia/Karachi
BEGIN:STANDARD
TZOFFSETFROM:+0500
TZOFFSETTO:+0500
TZNAME:PKT
DTSTART:20240101T000000
END:STANDARD
END:VTIMEZONE
BEGIN:VTIMEZONE
TZID:UTC
BEGIN:STANDARD
TZOFFSETFROM:+0000
TZOFFSETTO:+0000
TZNAME:UTC
DTSTART:20240101T000000
END:STANDARD
END:VTIMEZONE
BEGIN:VEVENT
DTSTART;TZID=Asia/Karachi:20251203T190000
DTEND;TZID=Asia/Karachi:20251203T200000
DTSTAMP:20260421T200619
CREATED:20240119T000801Z
LAST-MODIFIED:20240119T001103Z
UID:6413-1764788400-1764792000@yogacaps.org
SUMMARY:Seated Telehealth Yoga class
DESCRIPTION:7-8:00 pm Eastern Time. FREE seated therapeutic yoga class online using Zoom. Email terry@yogacaps.org for registration info.
URL:https://yogacaps.org/event/seated-telehealth-yoga-class/2025-12-03/
END:VEVENT
BEGIN:VEVENT
DTSTART;TZID=UTC:20251128T090000
DTEND;TZID=UTC:20251128T100000
DTSTAMP:20260421T200619
CREATED:20241011T211743Z
LAST-MODIFIED:20241011T211743Z
UID:6905-1764320400-1764324000@yogacaps.org
SUMMARY:Falls Prevention Program with RxRelax Therapeutic Yoga
DESCRIPTION:Join us at the O’Leary Adult Community Center in Merrimack\, NH.  You do not need to be a member or a Merrimack resident to attend.  To register for this free class call us at 603-674-3770.
URL:https://yogacaps.org/event/falls-prevention-program-with-rxrelax-therapeutic-yoga/2025-11-28/
LOCATION:O’Leary Community Center
END:VEVENT
BEGIN:VEVENT
DTSTART;TZID=Asia/Karachi:20251126T190000
DTEND;TZID=Asia/Karachi:20251126T200000
DTSTAMP:20260421T200619
CREATED:20240119T000801Z
LAST-MODIFIED:20240119T001101Z
UID:6412-1764183600-1764187200@yogacaps.org
SUMMARY:Seated Telehealth Yoga class
DESCRIPTION:7-8:00 pm Eastern Time. FREE seated therapeutic yoga class online using Zoom. Email terry@yogacaps.org for registration info.
URL:https://yogacaps.org/event/seated-telehealth-yoga-class/2025-11-26/
END:VEVENT
BEGIN:VEVENT
DTSTART;TZID=UTC:20251121T090000
DTEND;TZID=UTC:20251121T100000
DTSTAMP:20260421T200619
CREATED:20241011T211743Z
LAST-MODIFIED:20241011T211743Z
UID:6904-1763715600-1763719200@yogacaps.org
SUMMARY:Falls Prevention Program with RxRelax Therapeutic Yoga
DESCRIPTION:Join us at the O’Leary Adult Community Center in Merrimack\, NH.  You do not need to be a member or a Merrimack resident to attend.  To register for this free class call us at 603-674-3770.
URL:https://yogacaps.org/event/falls-prevention-program-with-rxrelax-therapeutic-yoga/2025-11-21/
LOCATION:O’Leary Community Center
END:VEVENT
BEGIN:VEVENT
DTSTART;TZID=Asia/Karachi:20251119T190000
DTEND;TZID=Asia/Karachi:20251119T200000
DTSTAMP:20260421T200619
CREATED:20240119T000801Z
LAST-MODIFIED:20240119T001101Z
UID:6411-1763578800-1763582400@yogacaps.org
SUMMARY:Seated Telehealth Yoga class
DESCRIPTION:7-8:00 pm Eastern Time. FREE seated therapeutic yoga class online using Zoom. Email terry@yogacaps.org for registration info.
URL:https://yogacaps.org/event/seated-telehealth-yoga-class/2025-11-19/
END:VEVENT
BEGIN:VEVENT
DTSTART;TZID=UTC:20251114T090000
DTEND;TZID=UTC:20251114T100000
DTSTAMP:20260421T200619
CREATED:20241011T211743Z
LAST-MODIFIED:20241011T211743Z
UID:6903-1763110800-1763114400@yogacaps.org
SUMMARY:Falls Prevention Program with RxRelax Therapeutic Yoga
DESCRIPTION:Join us at the O’Leary Adult Community Center in Merrimack\, NH.  You do not need to be a member or a Merrimack resident to attend.  To register for this free class call us at 603-674-3770.
URL:https://yogacaps.org/event/falls-prevention-program-with-rxrelax-therapeutic-yoga/2025-11-14/
LOCATION:O’Leary Community Center
END:VEVENT
BEGIN:VEVENT
DTSTART;TZID=Asia/Karachi:20251112T190000
DTEND;TZID=Asia/Karachi:20251112T200000
DTSTAMP:20260421T200619
CREATED:20240119T000801Z
LAST-MODIFIED:20240119T001101Z
UID:6410-1762974000-1762977600@yogacaps.org
SUMMARY:Seated Telehealth Yoga class
DESCRIPTION:7-8:00 pm Eastern Time. FREE seated therapeutic yoga class online using Zoom. Email terry@yogacaps.org for registration info.
URL:https://yogacaps.org/event/seated-telehealth-yoga-class/2025-11-12/
END:VEVENT
BEGIN:VEVENT
DTSTART;TZID=UTC:20251107T090000
DTEND;TZID=UTC:20251107T100000
DTSTAMP:20260421T200619
CREATED:20241011T211743Z
LAST-MODIFIED:20241011T211743Z
UID:6902-1762506000-1762509600@yogacaps.org
SUMMARY:Falls Prevention Program with RxRelax Therapeutic Yoga
DESCRIPTION:Join us at the O’Leary Adult Community Center in Merrimack\, NH.  You do not need to be a member or a Merrimack resident to attend.  To register for this free class call us at 603-674-3770.
URL:https://yogacaps.org/event/falls-prevention-program-with-rxrelax-therapeutic-yoga/2025-11-07/
LOCATION:O’Leary Community Center
END:VEVENT
BEGIN:VEVENT
DTSTART;TZID=Asia/Karachi:20251105T190000
DTEND;TZID=Asia/Karachi:20251105T200000
DTSTAMP:20260421T200619
CREATED:20240119T000801Z
LAST-MODIFIED:20240119T001101Z
UID:6409-1762369200-1762372800@yogacaps.org
SUMMARY:Seated Telehealth Yoga class
DESCRIPTION:7-8:00 pm Eastern Time. FREE seated therapeutic yoga class online using Zoom. Email terry@yogacaps.org for registration info.
URL:https://yogacaps.org/event/seated-telehealth-yoga-class/2025-11-05/
END:VEVENT
BEGIN:VEVENT
DTSTART;TZID=UTC:20251031T090000
DTEND;TZID=UTC:20251031T100000
DTSTAMP:20260421T200619
CREATED:20241011T211743Z
LAST-MODIFIED:20241011T211743Z
UID:6901-1761901200-1761904800@yogacaps.org
SUMMARY:Falls Prevention Program with RxRelax Therapeutic Yoga
DESCRIPTION:Join us at the O’Leary Adult Community Center in Merrimack\, NH.  You do not need to be a member or a Merrimack resident to attend.  To register for this free class call us at 603-674-3770.
URL:https://yogacaps.org/event/falls-prevention-program-with-rxrelax-therapeutic-yoga/2025-10-31/
LOCATION:O’Leary Community Center
END:VEVENT
BEGIN:VEVENT
DTSTART;TZID=Asia/Karachi:20251029T190000
DTEND;TZID=Asia/Karachi:20251029T200000
DTSTAMP:20260421T200619
CREATED:20240119T000801Z
LAST-MODIFIED:20240119T001101Z
UID:6408-1761764400-1761768000@yogacaps.org
SUMMARY:Seated Telehealth Yoga class
DESCRIPTION:7-8:00 pm Eastern Time. FREE seated therapeutic yoga class online using Zoom. Email terry@yogacaps.org for registration info.
URL:https://yogacaps.org/event/seated-telehealth-yoga-class/2025-10-29/
END:VEVENT
BEGIN:VEVENT
DTSTART;TZID=UTC:20251024T090000
DTEND;TZID=UTC:20251024T100000
DTSTAMP:20260421T200619
CREATED:20241011T211743Z
LAST-MODIFIED:20241011T211743Z
UID:6900-1761296400-1761300000@yogacaps.org
SUMMARY:Falls Prevention Program with RxRelax Therapeutic Yoga
DESCRIPTION:Join us at the O’Leary Adult Community Center in Merrimack\, NH.  You do not need to be a member or a Merrimack resident to attend.  To register for this free class call us at 603-674-3770.
URL:https://yogacaps.org/event/falls-prevention-program-with-rxrelax-therapeutic-yoga/2025-10-24/
LOCATION:O’Leary Community Center
END:VEVENT
BEGIN:VEVENT
DTSTART;TZID=Asia/Karachi:20251022T190000
DTEND;TZID=Asia/Karachi:20251022T200000
DTSTAMP:20260421T200619
CREATED:20240119T000801Z
LAST-MODIFIED:20240119T001100Z
UID:6407-1761159600-1761163200@yogacaps.org
SUMMARY:Seated Telehealth Yoga class
DESCRIPTION:7-8:00 pm Eastern Time. FREE seated therapeutic yoga class online using Zoom. Email terry@yogacaps.org for registration info.
URL:https://yogacaps.org/event/seated-telehealth-yoga-class/2025-10-22/
END:VEVENT
BEGIN:VEVENT
DTSTART;TZID=UTC:20251017T090000
DTEND;TZID=UTC:20251017T100000
DTSTAMP:20260421T200619
CREATED:20241011T211743Z
LAST-MODIFIED:20241011T211743Z
UID:6899-1760691600-1760695200@yogacaps.org
SUMMARY:Falls Prevention Program with RxRelax Therapeutic Yoga
DESCRIPTION:Join us at the O’Leary Adult Community Center in Merrimack\, NH.  You do not need to be a member or a Merrimack resident to attend.  To register for this free class call us at 603-674-3770.
URL:https://yogacaps.org/event/falls-prevention-program-with-rxrelax-therapeutic-yoga/2025-10-17/
LOCATION:O’Leary Community Center
END:VEVENT
BEGIN:VEVENT
DTSTART;TZID=Asia/Karachi:20251015T190000
DTEND;TZID=Asia/Karachi:20251015T200000
DTSTAMP:20260421T200619
CREATED:20240119T000801Z
LAST-MODIFIED:20240119T001100Z
UID:6406-1760554800-1760558400@yogacaps.org
SUMMARY:Seated Telehealth Yoga class
DESCRIPTION:7-8:00 pm Eastern Time. FREE seated therapeutic yoga class online using Zoom. Email terry@yogacaps.org for registration info.
URL:https://yogacaps.org/event/seated-telehealth-yoga-class/2025-10-15/
END:VEVENT
BEGIN:VEVENT
DTSTART;TZID=UTC:20251010T090000
DTEND;TZID=UTC:20251010T100000
DTSTAMP:20260421T200619
CREATED:20241011T211743Z
LAST-MODIFIED:20241011T211743Z
UID:6898-1760086800-1760090400@yogacaps.org
SUMMARY:Falls Prevention Program with RxRelax Therapeutic Yoga
DESCRIPTION:Join us at the O’Leary Adult Community Center in Merrimack\, NH.  You do not need to be a member or a Merrimack resident to attend.  To register for this free class call us at 603-674-3770.
URL:https://yogacaps.org/event/falls-prevention-program-with-rxrelax-therapeutic-yoga/2025-10-10/
LOCATION:O’Leary Community Center
END:VEVENT
BEGIN:VEVENT
DTSTART;TZID=Asia/Karachi:20251008T190000
DTEND;TZID=Asia/Karachi:20251008T200000
DTSTAMP:20260421T200619
CREATED:20240119T000801Z
LAST-MODIFIED:20240119T001100Z
UID:6405-1759950000-1759953600@yogacaps.org
SUMMARY:Seated Telehealth Yoga class
DESCRIPTION:7-8:00 pm Eastern Time. FREE seated therapeutic yoga class online using Zoom. Email terry@yogacaps.org for registration info.
URL:https://yogacaps.org/event/seated-telehealth-yoga-class/2025-10-08/
END:VEVENT
BEGIN:VEVENT
DTSTART;TZID=UTC:20251003T090000
DTEND;TZID=UTC:20251003T100000
DTSTAMP:20260421T200619
CREATED:20241011T211743Z
LAST-MODIFIED:20241011T211743Z
UID:6897-1759482000-1759485600@yogacaps.org
SUMMARY:Falls Prevention Program with RxRelax Therapeutic Yoga
DESCRIPTION:Join us at the O’Leary Adult Community Center in Merrimack\, NH.  You do not need to be a member or a Merrimack resident to attend.  To register for this free class call us at 603-674-3770.
URL:https://yogacaps.org/event/falls-prevention-program-with-rxrelax-therapeutic-yoga/2025-10-03/
LOCATION:O’Leary Community Center
END:VEVENT
BEGIN:VEVENT
DTSTART;TZID=Asia/Karachi:20251001T190000
DTEND;TZID=Asia/Karachi:20251001T200000
DTSTAMP:20260421T200619
CREATED:20240119T000801Z
LAST-MODIFIED:20240119T001100Z
UID:6404-1759345200-1759348800@yogacaps.org
SUMMARY:Seated Telehealth Yoga class
DESCRIPTION:7-8:00 pm Eastern Time. FREE seated therapeutic yoga class online using Zoom. Email terry@yogacaps.org for registration info.
URL:https://yogacaps.org/event/seated-telehealth-yoga-class/2025-10-01/
END:VEVENT
BEGIN:VEVENT
DTSTART;TZID=UTC:20250926T090000
DTEND;TZID=UTC:20250926T100000
DTSTAMP:20260421T200619
CREATED:20241011T211743Z
LAST-MODIFIED:20241011T211743Z
UID:6896-1758877200-1758880800@yogacaps.org
SUMMARY:Falls Prevention Program with RxRelax Therapeutic Yoga
DESCRIPTION:Join us at the O’Leary Adult Community Center in Merrimack\, NH.  You do not need to be a member or a Merrimack resident to attend.  To register for this free class call us at 603-674-3770.
URL:https://yogacaps.org/event/falls-prevention-program-with-rxrelax-therapeutic-yoga/2025-09-26/
LOCATION:O’Leary Community Center
END:VEVENT
BEGIN:VEVENT
DTSTART;TZID=Asia/Karachi:20250924T190000
DTEND;TZID=Asia/Karachi:20250924T200000
DTSTAMP:20260421T200619
CREATED:20240119T000801Z
LAST-MODIFIED:20240119T001100Z
UID:6403-1758740400-1758744000@yogacaps.org
SUMMARY:Seated Telehealth Yoga class
DESCRIPTION:7-8:00 pm Eastern Time. FREE seated therapeutic yoga class online using Zoom. Email terry@yogacaps.org for registration info.
URL:https://yogacaps.org/event/seated-telehealth-yoga-class/2025-09-24/
END:VEVENT
BEGIN:VEVENT
DTSTART;TZID=UTC:20250919T090000
DTEND;TZID=UTC:20250919T100000
DTSTAMP:20260421T200619
CREATED:20241011T211743Z
LAST-MODIFIED:20241011T211743Z
UID:6895-1758272400-1758276000@yogacaps.org
SUMMARY:Falls Prevention Program with RxRelax Therapeutic Yoga
DESCRIPTION:Join us at the O’Leary Adult Community Center in Merrimack\, NH.  You do not need to be a member or a Merrimack resident to attend.  To register for this free class call us at 603-674-3770.
URL:https://yogacaps.org/event/falls-prevention-program-with-rxrelax-therapeutic-yoga/2025-09-19/
LOCATION:O’Leary Community Center
END:VEVENT
BEGIN:VEVENT
DTSTART;TZID=Asia/Karachi:20250917T190000
DTEND;TZID=Asia/Karachi:20250917T200000
DTSTAMP:20260421T200619
CREATED:20240119T000801Z
LAST-MODIFIED:20240119T001058Z
UID:6402-1758135600-1758139200@yogacaps.org
SUMMARY:Seated Telehealth Yoga class
DESCRIPTION:7-8:00 pm Eastern Time. FREE seated therapeutic yoga class online using Zoom. Email terry@yogacaps.org for registration info.
URL:https://yogacaps.org/event/seated-telehealth-yoga-class/2025-09-17/
END:VEVENT
BEGIN:VEVENT
DTSTART;TZID=UTC:20250912T090000
DTEND;TZID=UTC:20250912T100000
DTSTAMP:20260421T200619
CREATED:20241011T211743Z
LAST-MODIFIED:20241011T211743Z
UID:6894-1757667600-1757671200@yogacaps.org
SUMMARY:Falls Prevention Program with RxRelax Therapeutic Yoga
DESCRIPTION:Join us at the O’Leary Adult Community Center in Merrimack\, NH.  You do not need to be a member or a Merrimack resident to attend.  To register for this free class call us at 603-674-3770.
URL:https://yogacaps.org/event/falls-prevention-program-with-rxrelax-therapeutic-yoga/2025-09-12/
LOCATION:O’Leary Community Center
END:VEVENT
BEGIN:VEVENT
DTSTART;TZID=Asia/Karachi:20250910T190000
DTEND;TZID=Asia/Karachi:20250910T200000
DTSTAMP:20260421T200619
CREATED:20240119T000801Z
LAST-MODIFIED:20240119T001058Z
UID:6401-1757530800-1757534400@yogacaps.org
SUMMARY:Seated Telehealth Yoga class
DESCRIPTION:7-8:00 pm Eastern Time. FREE seated therapeutic yoga class online using Zoom. Email terry@yogacaps.org for registration info.
URL:https://yogacaps.org/event/seated-telehealth-yoga-class/2025-09-10/
END:VEVENT
BEGIN:VEVENT
DTSTART;TZID=UTC:20250905T090000
DTEND;TZID=UTC:20250905T100000
DTSTAMP:20260421T200619
CREATED:20241011T211743Z
LAST-MODIFIED:20241011T211743Z
UID:6893-1757062800-1757066400@yogacaps.org
SUMMARY:Falls Prevention Program with RxRelax Therapeutic Yoga
DESCRIPTION:Join us at the O’Leary Adult Community Center in Merrimack\, NH.  You do not need to be a member or a Merrimack resident to attend.  To register for this free class call us at 603-674-3770.
URL:https://yogacaps.org/event/falls-prevention-program-with-rxrelax-therapeutic-yoga/2025-09-05/
LOCATION:O’Leary Community Center
END:VEVENT
BEGIN:VEVENT
DTSTART;TZID=Asia/Karachi:20250903T190000
DTEND;TZID=Asia/Karachi:20250903T200000
DTSTAMP:20260421T200619
CREATED:20240119T000801Z
LAST-MODIFIED:20240119T001058Z
UID:6400-1756926000-1756929600@yogacaps.org
SUMMARY:Seated Telehealth Yoga class
DESCRIPTION:7-8:00 pm Eastern Time. FREE seated therapeutic yoga class online using Zoom. Email terry@yogacaps.org for registration info.
URL:https://yogacaps.org/event/seated-telehealth-yoga-class/2025-09-03/
END:VEVENT
BEGIN:VEVENT
DTSTART;TZID=UTC:20250829T090000
DTEND;TZID=UTC:20250829T100000
DTSTAMP:20260421T200619
CREATED:20241011T211743Z
LAST-MODIFIED:20241011T211743Z
UID:6892-1756458000-1756461600@yogacaps.org
SUMMARY:Falls Prevention Program with RxRelax Therapeutic Yoga
DESCRIPTION:Join us at the O’Leary Adult Community Center in Merrimack\, NH.  You do not need to be a member or a Merrimack resident to attend.  To register for this free class call us at 603-674-3770.
URL:https://yogacaps.org/event/falls-prevention-program-with-rxrelax-therapeutic-yoga/2025-08-29/
LOCATION:O’Leary Community Center
END:VEVENT
BEGIN:VEVENT
DTSTART;TZID=Asia/Karachi:20250827T190000
DTEND;TZID=Asia/Karachi:20250827T200000
DTSTAMP:20260421T200619
CREATED:20240119T000801Z
LAST-MODIFIED:20240119T001058Z
UID:6399-1756321200-1756324800@yogacaps.org
SUMMARY:Seated Telehealth Yoga class
DESCRIPTION:7-8:00 pm Eastern Time. FREE seated therapeutic yoga class online using Zoom. Email terry@yogacaps.org for registration info.
URL:https://yogacaps.org/event/seated-telehealth-yoga-class/2025-08-27/
END:VEVENT
BEGIN:VEVENT
DTSTART;TZID=UTC:20250822T090000
DTEND;TZID=UTC:20250822T100000
DTSTAMP:20260421T200619
CREATED:20241011T211743Z
LAST-MODIFIED:20241011T211743Z
UID:6891-1755853200-1755856800@yogacaps.org
SUMMARY:Falls Prevention Program with RxRelax Therapeutic Yoga
DESCRIPTION:Join us at the O’Leary Adult Community Center in Merrimack\, NH.  You do not need to be a member or a Merrimack resident to attend.  To register for this free class call us at 603-674-3770.
URL:https://yogacaps.org/event/falls-prevention-program-with-rxrelax-therapeutic-yoga/2025-08-22/
LOCATION:O’Leary Community Center
END:VEVENT
END:VCALENDAR